BEGIN:VCALENDAR
VERSION:2.0
PRODID:-//Thunder Road Aberdeen - ECPv4.6.1//NONSGML v1.0//EN
CALSCALE:GREGORIAN
METHOD:PUBLISH
X-WR-CALNAME:Thunder Road Aberdeen
X-ORIGINAL-URL:https://thunderroad.info/aberdeen
X-WR-CALDESC:Events for Thunder Road Aberdeen
BEGIN:VEVENT
DTSTART;TZID=UTC-6:20220629T120000
DTEND;TZID=UTC-6:20220629T213000
DTSTAMP:20260424T234638
CREATED:20220216T232945Z
LAST-MODIFIED:20220216T232945Z
UID:5128-1656504000-1656538200@thunderroad.info
SUMMARY:Wednesday\, June 29\, 2022
DESCRIPTION:
URL:https://thunderroad.info/aberdeen/hour/wednesday-june-29-2022/
END:VEVENT
END:VCALENDAR