BEGIN:VCALENDAR
VERSION:2.0
PRODID:-//Thunder Road Aberdeen - ECPv4.6.1//NONSGML v1.0//EN
CALSCALE:GREGORIAN
METHOD:PUBLISH
X-WR-CALNAME:Thunder Road Aberdeen
X-ORIGINAL-URL:https://thunderroad.info/aberdeen
X-WR-CALDESC:Events for Thunder Road Aberdeen
BEGIN:VEVENT
DTSTART;TZID=UTC-6:20240626T120000
DTEND;TZID=UTC-6:20240626T210000
DTSTAMP:20260423T153726
CREATED:20240301T014030Z
LAST-MODIFIED:20240301T014030Z
UID:5841-1719403200-1719435600@thunderroad.info
SUMMARY:Wednesday\, June 26\, 2024
DESCRIPTION:
URL:https://thunderroad.info/aberdeen/hour/wednesday-june-26-2024/
END:VEVENT
END:VCALENDAR