BEGIN:VCALENDAR
VERSION:2.0
PRODID:-//Thunder Road Aberdeen - ECPv4.6.1//NONSGML v1.0//EN
CALSCALE:GREGORIAN
METHOD:PUBLISH
X-WR-CALNAME:Thunder Road Aberdeen
X-ORIGINAL-URL:https://thunderroad.info/aberdeen
X-WR-CALDESC:Events for Thunder Road Aberdeen
BEGIN:VEVENT
DTSTART;TZID=UTC-6:20260617T120000
DTEND;TZID=UTC-6:20260617T210000
DTSTAMP:20260422T012936
CREATED:20260225T191828Z
LAST-MODIFIED:20260225T191828Z
UID:6401-1781697600-1781730000@thunderroad.info
SUMMARY:Wednesday\, June 17\, 2026
DESCRIPTION:
URL:https://thunderroad.info/aberdeen/hour/wednesday-june-17-2026/
END:VEVENT
END:VCALENDAR