BEGIN:VCALENDAR
VERSION:2.0
PRODID:-//Thunder Road Aberdeen - ECPv4.6.1//NONSGML v1.0//EN
CALSCALE:GREGORIAN
METHOD:PUBLISH
X-WR-CALNAME:Thunder Road Aberdeen
X-ORIGINAL-URL:https://thunderroad.info/aberdeen
X-WR-CALDESC:Events for Thunder Road Aberdeen
BEGIN:VEVENT
DTSTART;TZID=UTC-6:20210616T120000
DTEND;TZID=UTC-6:20210616T210000
DTSTAMP:20260425T200310
CREATED:20210124T191318Z
LAST-MODIFIED:20210124T191318Z
UID:4788-1623844800-1623877200@thunderroad.info
SUMMARY:Wednesday\, June 16\, 2021
DESCRIPTION:
URL:https://thunderroad.info/aberdeen/hour/wednesday-june-16-2021/
END:VEVENT
END:VCALENDAR