BEGIN:VCALENDAR
VERSION:2.0
PRODID:-//Thunder Road Aberdeen - ECPv4.6.1//NONSGML v1.0//EN
CALSCALE:GREGORIAN
METHOD:PUBLISH
X-WR-CALNAME:Thunder Road Aberdeen
X-ORIGINAL-URL:https://thunderroad.info/aberdeen
X-WR-CALDESC:Events for Thunder Road Aberdeen
BEGIN:VEVENT
DTSTART;TZID=UTC-6:20220727T120000
DTEND;TZID=UTC-6:20220727T213000
DTSTAMP:20260424T234812
CREATED:20220216T233009Z
LAST-MODIFIED:20220216T233009Z
UID:5156-1658923200-1658957400@thunderroad.info
SUMMARY:Wednesday\, July 27\, 2022
DESCRIPTION:
URL:https://thunderroad.info/aberdeen/hour/wednesday-july-27-2022/
END:VEVENT
END:VCALENDAR