BEGIN:VCALENDAR
VERSION:2.0
PRODID:-//Thunder Road Aberdeen - ECPv4.6.1//NONSGML v1.0//EN
CALSCALE:GREGORIAN
METHOD:PUBLISH
X-WR-CALNAME:Thunder Road Aberdeen
X-ORIGINAL-URL:https://thunderroad.info/aberdeen
X-WR-CALDESC:Events for Thunder Road Aberdeen
BEGIN:VEVENT
DTSTART;TZID=UTC-6:20240710T120000
DTEND;TZID=UTC-6:20240710T213000
DTSTAMP:20260423T141659
CREATED:20240301T014035Z
LAST-MODIFIED:20240301T014035Z
UID:5855-1720612800-1720647000@thunderroad.info
SUMMARY:Wednesday\, July 10\, 2024
DESCRIPTION:
URL:https://thunderroad.info/aberdeen/hour/wednesday-july-10-2024/
END:VEVENT
END:VCALENDAR