BEGIN:VCALENDAR
VERSION:2.0
PRODID:-//Thunder Road Aberdeen - ECPv4.6.1//NONSGML v1.0//EN
CALSCALE:GREGORIAN
METHOD:PUBLISH
X-WR-CALNAME:Thunder Road Aberdeen
X-ORIGINAL-URL:https://thunderroad.info/aberdeen
X-WR-CALDESC:Events for Thunder Road Aberdeen
BEGIN:VEVENT
DTSTART;TZID=UTC-6:20260701T120000
DTEND;TZID=UTC-6:20260701T213000
DTSTAMP:20260422T012952
CREATED:20260225T191856Z
LAST-MODIFIED:20260225T191856Z
UID:6415-1782907200-1782941400@thunderroad.info
SUMMARY:Wednesday\, July 1\, 2026
DESCRIPTION:
URL:https://thunderroad.info/aberdeen/hour/wednesday-july-1-2026/
END:VEVENT
END:VCALENDAR