BEGIN:VCALENDAR
VERSION:2.0
PRODID:-//Thunder Road Aberdeen - ECPv4.6.1//NONSGML v1.0//EN
CALSCALE:GREGORIAN
METHOD:PUBLISH
X-WR-CALNAME:Thunder Road Aberdeen
X-ORIGINAL-URL:https://thunderroad.info/aberdeen
X-WR-CALDESC:Events for Thunder Road Aberdeen
BEGIN:VEVENT
DTSTART;TZID=UTC-6:20240807T120000
DTEND;TZID=UTC-6:20240807T210000
DTSTAMP:20260423T123029
CREATED:20240301T014046Z
LAST-MODIFIED:20240301T014046Z
UID:5883-1723032000-1723064400@thunderroad.info
SUMMARY:Wednesday\, August 7\, 2024
DESCRIPTION:
URL:https://thunderroad.info/aberdeen/hour/wednesday-august-7-2024/
END:VEVENT
END:VCALENDAR