BEGIN:VCALENDAR
VERSION:2.0
PRODID:-//Thunder Road Aberdeen - ECPv4.6.1//NONSGML v1.0//EN
CALSCALE:GREGORIAN
METHOD:PUBLISH
X-WR-CALNAME:Thunder Road Aberdeen
X-ORIGINAL-URL:https://thunderroad.info/aberdeen
X-WR-CALDESC:Events for Thunder Road Aberdeen
BEGIN:VEVENT
DTSTART;TZID=UTC-6:20250806T120000
DTEND;TZID=UTC-6:20250806T210000
DTSTAMP:20260424T093140
CREATED:20250205T004351Z
LAST-MODIFIED:20250205T004351Z
UID:6185-1754481600-1754514000@thunderroad.info
SUMMARY:Wednesday\, August 6\, 2025
DESCRIPTION:
URL:https://thunderroad.info/aberdeen/hour/wednesday-august-6-2025/
END:VEVENT
END:VCALENDAR