BEGIN:VCALENDAR
VERSION:2.0
PRODID:-//Thunder Road Aberdeen - ECPv4.6.1//NONSGML v1.0//EN
CALSCALE:GREGORIAN
METHOD:PUBLISH
X-WR-CALNAME:Thunder Road Aberdeen
X-ORIGINAL-URL:https://thunderroad.info/aberdeen
X-WR-CALDESC:Events for Thunder Road Aberdeen
BEGIN:VEVENT
DTSTART;TZID=UTC-6:20210818T120000
DTEND;TZID=UTC-6:20210818T200000
DTSTAMP:20260425T171140
CREATED:20210124T191348Z
LAST-MODIFIED:20210125T155318Z
UID:4851-1629288000-1629316800@thunderroad.info
SUMMARY:Wednesday\, August 18\, 2021
DESCRIPTION:
URL:https://thunderroad.info/aberdeen/hour/wednesday-august-18-2021/
END:VEVENT
END:VCALENDAR