BEGIN:VCALENDAR
VERSION:2.0
PRODID:-//Thunder Road Aberdeen - ECPv4.6.1//NONSGML v1.0//EN
CALSCALE:GREGORIAN
METHOD:PUBLISH
X-WR-CALNAME:Thunder Road Aberdeen
X-ORIGINAL-URL:https://thunderroad.info/aberdeen
X-WR-CALDESC:Events for Thunder Road Aberdeen
BEGIN:VEVENT
DTSTART;TZID=UTC-6:20220817T120000
DTEND;TZID=UTC-6:20220817T200000
DTSTAMP:20260424T222134
CREATED:20220216T233035Z
LAST-MODIFIED:20220216T233035Z
UID:5177-1660737600-1660766400@thunderroad.info
SUMMARY:Wednesday\, August 17\, 2022
DESCRIPTION:
URL:https://thunderroad.info/aberdeen/hour/wednesday-august-17-2022/
END:VEVENT
END:VCALENDAR