BEGIN:VCALENDAR
VERSION:2.0
PRODID:-//Thunder Road Aberdeen - ECPv4.6.1//NONSGML v1.0//EN
CALSCALE:GREGORIAN
METHOD:PUBLISH
X-WR-CALNAME:Thunder Road Aberdeen
X-ORIGINAL-URL:https://thunderroad.info/aberdeen
X-WR-CALDESC:Events for Thunder Road Aberdeen
BEGIN:VEVENT
DTSTART;TZID=UTC-6:20210811T120000
DTEND;TZID=UTC-6:20210811T210000
DTSTAMP:20260425T171234
CREATED:20210124T191345Z
LAST-MODIFIED:20210124T191345Z
UID:4844-1628683200-1628715600@thunderroad.info
SUMMARY:Wednesday\, August 11\, 2021
DESCRIPTION:
URL:https://thunderroad.info/aberdeen/hour/wednesday-august-11-2021/
END:VEVENT
END:VCALENDAR