BEGIN:VCALENDAR
VERSION:2.0
PRODID:-//Thunder Road Aberdeen - ECPv4.6.1//NONSGML v1.0//EN
CALSCALE:GREGORIAN
METHOD:PUBLISH
X-WR-CALNAME:Thunder Road Aberdeen
X-ORIGINAL-URL:https://thunderroad.info/aberdeen
X-WR-CALDESC:Events for Thunder Road Aberdeen
BEGIN:VEVENT
DTSTART;TZID=UTC-6:20250527T120000
DTEND;TZID=UTC-6:20250527T200000
DTSTAMP:20260422T185913
CREATED:20250205T004313Z
LAST-MODIFIED:20250205T004313Z
UID:6114-1748347200-1748376000@thunderroad.info
SUMMARY:Tuesday\, May 27\, 2025
DESCRIPTION:
URL:https://thunderroad.info/aberdeen/hour/tuesday-may-27-2025/
END:VEVENT
END:VCALENDAR