BEGIN:VCALENDAR
VERSION:2.0
PRODID:-//Thunder Road Aberdeen - ECPv4.6.1//NONSGML v1.0//EN
CALSCALE:GREGORIAN
METHOD:PUBLISH
X-WR-CALNAME:Thunder Road Aberdeen
X-ORIGINAL-URL:https://thunderroad.info/aberdeen
X-WR-CALDESC:Events for Thunder Road Aberdeen
BEGIN:VEVENT
DTSTART;TZID=UTC-6:20260526T120000
DTEND;TZID=UTC-6:20260526T200000
DTSTAMP:20260421T235003
CREATED:20260225T191758Z
LAST-MODIFIED:20260225T191758Z
UID:6379-1779796800-1779825600@thunderroad.info
SUMMARY:Tuesday\, May 26\, 2026
DESCRIPTION:
URL:https://thunderroad.info/aberdeen/hour/tuesday-may-26-2026/
END:VEVENT
END:VCALENDAR