BEGIN:VCALENDAR
VERSION:2.0
PRODID:-//Thunder Road Aberdeen - ECPv4.6.1//NONSGML v1.0//EN
CALSCALE:GREGORIAN
METHOD:PUBLISH
X-WR-CALNAME:Thunder Road Aberdeen
X-ORIGINAL-URL:https://thunderroad.info/aberdeen
X-WR-CALDESC:Events for Thunder Road Aberdeen
BEGIN:VEVENT
DTSTART;TZID=UTC-6:20260519T130000
DTEND;TZID=UTC-6:20260519T200000
DTSTAMP:20260421T234618
CREATED:20260225T191745Z
LAST-MODIFIED:20260408T210259Z
UID:6372-1779195600-1779220800@thunderroad.info
SUMMARY:Tuesday\, May 19\, 2026
DESCRIPTION:
URL:https://thunderroad.info/aberdeen/hour/tuesday-may-19-2026/
END:VEVENT
END:VCALENDAR