BEGIN:VCALENDAR
VERSION:2.0
PRODID:-//Thunder Road Aberdeen - ECPv4.6.1//NONSGML v1.0//EN
CALSCALE:GREGORIAN
METHOD:PUBLISH
X-WR-CALNAME:Thunder Road Aberdeen
X-ORIGINAL-URL:https://thunderroad.info/aberdeen
X-WR-CALDESC:Events for Thunder Road Aberdeen
BEGIN:VEVENT
DTSTART;TZID=UTC-6:20220621T120000
DTEND;TZID=UTC-6:20220621T213000
DTSTAMP:20260425T022406
CREATED:20220216T232942Z
LAST-MODIFIED:20220216T232942Z
UID:5120-1655812800-1655847000@thunderroad.info
SUMMARY:Tuesday\, June 21\, 2022
DESCRIPTION:
URL:https://thunderroad.info/aberdeen/hour/tuesday-june-21-2022/
END:VEVENT
END:VCALENDAR