BEGIN:VCALENDAR
VERSION:2.0
PRODID:-//Thunder Road Aberdeen - ECPv4.6.1//NONSGML v1.0//EN
CALSCALE:GREGORIAN
METHOD:PUBLISH
X-WR-CALNAME:Thunder Road Aberdeen
X-ORIGINAL-URL:https://thunderroad.info/aberdeen
X-WR-CALDESC:Events for Thunder Road Aberdeen
BEGIN:VEVENT
DTSTART;TZID=UTC-6:20260616T120000
DTEND;TZID=UTC-6:20260616T210000
DTSTAMP:20260422T012940
CREATED:20260225T191827Z
LAST-MODIFIED:20260225T191827Z
UID:6400-1781611200-1781643600@thunderroad.info
SUMMARY:Tuesday\, June 16\, 2026
DESCRIPTION:
URL:https://thunderroad.info/aberdeen/hour/tuesday-june-16-2026/
END:VEVENT
END:VCALENDAR