BEGIN:VCALENDAR
VERSION:2.0
PRODID:-//Thunder Road Aberdeen - ECPv4.6.1//NONSGML v1.0//EN
CALSCALE:GREGORIAN
METHOD:PUBLISH
X-WR-CALNAME:Thunder Road Aberdeen
X-ORIGINAL-URL:https://thunderroad.info/aberdeen
X-WR-CALDESC:Events for Thunder Road Aberdeen
BEGIN:VEVENT
DTSTART;TZID=UTC-6:20210615T120000
DTEND;TZID=UTC-6:20210615T210000
DTSTAMP:20260425T200303
CREATED:20210124T191316Z
LAST-MODIFIED:20210124T191316Z
UID:4787-1623758400-1623790800@thunderroad.info
SUMMARY:Tuesday\, June 15\, 2021
DESCRIPTION:
URL:https://thunderroad.info/aberdeen/hour/tuesday-june-15-2021/
END:VEVENT
END:VCALENDAR