BEGIN:VCALENDAR
VERSION:2.0
PRODID:-//Thunder Road Aberdeen - ECPv4.6.1//NONSGML v1.0//EN
CALSCALE:GREGORIAN
METHOD:PUBLISH
X-WR-CALNAME:Thunder Road Aberdeen
X-ORIGINAL-URL:https://thunderroad.info/aberdeen
X-WR-CALDESC:Events for Thunder Road Aberdeen
BEGIN:VEVENT
DTSTART;TZID=UTC-6:20230613T120000
DTEND;TZID=UTC-6:20230613T210000
DTSTAMP:20260424T085533
CREATED:20230109T181528Z
LAST-MODIFIED:20230109T181528Z
UID:5453-1686657600-1686690000@thunderroad.info
SUMMARY:Tuesday\, June 13\, 2023
DESCRIPTION:
URL:https://thunderroad.info/aberdeen/hour/tuesday-june-13-2023/
END:VEVENT
END:VCALENDAR