BEGIN:VCALENDAR
VERSION:2.0
PRODID:-//Thunder Road Aberdeen - ECPv4.6.1//NONSGML v1.0//EN
CALSCALE:GREGORIAN
METHOD:PUBLISH
X-WR-CALNAME:Thunder Road Aberdeen
X-ORIGINAL-URL:https://thunderroad.info/aberdeen
X-WR-CALDESC:Events for Thunder Road Aberdeen
BEGIN:VEVENT
DTSTART;TZID=UTC-6:20240716T120000
DTEND;TZID=UTC-6:20240716T213000
DTSTAMP:20260423T141612
CREATED:20240301T014037Z
LAST-MODIFIED:20240301T014037Z
UID:5861-1721131200-1721165400@thunderroad.info
SUMMARY:Tuesday\, July 16\, 2024
DESCRIPTION:
URL:https://thunderroad.info/aberdeen/hour/tuesday-july-16-2024/
END:VEVENT
END:VCALENDAR