BEGIN:VCALENDAR
VERSION:2.0
PRODID:-//Thunder Road Aberdeen - ECPv4.6.1//NONSGML v1.0//EN
CALSCALE:GREGORIAN
METHOD:PUBLISH
X-WR-CALNAME:Thunder Road Aberdeen
X-ORIGINAL-URL:https://thunderroad.info/aberdeen
X-WR-CALDESC:Events for Thunder Road Aberdeen
BEGIN:VEVENT
DTSTART;TZID=UTC-6:20250715T120000
DTEND;TZID=UTC-6:20250715T213000
DTSTAMP:20260422T141312
CREATED:20250205T004340Z
LAST-MODIFIED:20250205T004340Z
UID:6163-1752580800-1752615000@thunderroad.info
SUMMARY:Tuesday\, July 15\, 2025
DESCRIPTION:
URL:https://thunderroad.info/aberdeen/hour/tuesday-july-15-2025/
END:VEVENT
END:VCALENDAR