BEGIN:VCALENDAR
VERSION:2.0
PRODID:-//Thunder Road Aberdeen - ECPv4.6.1//NONSGML v1.0//EN
CALSCALE:GREGORIAN
METHOD:PUBLISH
X-WR-CALNAME:Thunder Road Aberdeen
X-ORIGINAL-URL:https://thunderroad.info/aberdeen
X-WR-CALDESC:Events for Thunder Road Aberdeen
BEGIN:VEVENT
DTSTART;TZID=UTC-6:20220809T120000
DTEND;TZID=UTC-6:20220809T210000
DTSTAMP:20260424T234648
CREATED:20220216T233032Z
LAST-MODIFIED:20220216T233032Z
UID:5169-1660046400-1660078800@thunderroad.info
SUMMARY:Tuesday\, August 9\, 2022
DESCRIPTION:
URL:https://thunderroad.info/aberdeen/hour/tuesday-august-9-2022/
END:VEVENT
END:VCALENDAR