BEGIN:VCALENDAR
VERSION:2.0
PRODID:-//Thunder Road Aberdeen - ECPv4.6.1//NONSGML v1.0//EN
CALSCALE:GREGORIAN
METHOD:PUBLISH
X-WR-CALNAME:Thunder Road Aberdeen
X-ORIGINAL-URL:https://thunderroad.info/aberdeen
X-WR-CALDESC:Events for Thunder Road Aberdeen
BEGIN:VEVENT
DTSTART;TZID=UTC-6:20260804T120000
DTEND;TZID=UTC-6:20260804T210000
DTSTAMP:20260422T044330
CREATED:20260225T191952Z
LAST-MODIFIED:20260225T191952Z
UID:6449-1785844800-1785877200@thunderroad.info
SUMMARY:Tuesday\, August 4\, 2026
DESCRIPTION:
URL:https://thunderroad.info/aberdeen/hour/tuesday-august-4-2026/
END:VEVENT
END:VCALENDAR