BEGIN:VCALENDAR
VERSION:2.0
PRODID:-//Thunder Road Aberdeen - ECPv4.6.1//NONSGML v1.0//EN
CALSCALE:GREGORIAN
METHOD:PUBLISH
X-WR-CALNAME:Thunder Road Aberdeen
X-ORIGINAL-URL:https://thunderroad.info/aberdeen
X-WR-CALDESC:Events for Thunder Road Aberdeen
BEGIN:VEVENT
DTSTART;TZID=UTC-6:20220823T170000
DTEND;TZID=UTC-6:20220823T200000
DTSTAMP:20260424T222157
CREATED:20220216T233038Z
LAST-MODIFIED:20220216T233038Z
UID:5183-1661274000-1661284800@thunderroad.info
SUMMARY:Tuesday\, August 23\, 2022
DESCRIPTION:
URL:https://thunderroad.info/aberdeen/hour/tuesday-august-23-2022/
END:VEVENT
END:VCALENDAR