BEGIN:VCALENDAR
VERSION:2.0
PRODID:-//Thunder Road Aberdeen - ECPv4.6.1//NONSGML v1.0//EN
CALSCALE:GREGORIAN
METHOD:PUBLISH
X-WR-CALNAME:Thunder Road Aberdeen
X-ORIGINAL-URL:https://thunderroad.info/aberdeen
X-WR-CALDESC:Events for Thunder Road Aberdeen
BEGIN:VEVENT
DTSTART;TZID=UTC-6:20230815T120000
DTEND;TZID=UTC-6:20230815T193000
DTSTAMP:20260424T062348
CREATED:20230109T181549Z
LAST-MODIFIED:20230806T233855Z
UID:5516-1692100800-1692127800@thunderroad.info
SUMMARY:Tuesday\, August 15\, 2023
DESCRIPTION:
URL:https://thunderroad.info/aberdeen/hour/tuesday-august-15-2023/
END:VEVENT
END:VCALENDAR