BEGIN:VCALENDAR
VERSION:2.0
PRODID:-//Thunder Road Aberdeen - ECPv4.6.1//NONSGML v1.0//EN
CALSCALE:GREGORIAN
METHOD:PUBLISH
X-WR-CALNAME:Thunder Road Aberdeen
X-ORIGINAL-URL:https://thunderroad.info/aberdeen
X-WR-CALDESC:Events for Thunder Road Aberdeen
BEGIN:VEVENT
DTSTART;TZID=UTC-6:20230801T120000
DTEND;TZID=UTC-6:20230801T213000
DTSTAMP:20260424T062317
CREATED:20230109T181545Z
LAST-MODIFIED:20230109T181545Z
UID:5502-1690891200-1690925400@thunderroad.info
SUMMARY:Tuesday\, August 1\, 2023
DESCRIPTION:
URL:https://thunderroad.info/aberdeen/hour/tuesday-august-1-2023/
END:VEVENT
END:VCALENDAR