BEGIN:VCALENDAR
VERSION:2.0
PRODID:-//Thunder Road Aberdeen - ECPv4.6.1//NONSGML v1.0//EN
CALSCALE:GREGORIAN
METHOD:PUBLISH
X-WR-CALNAME:Thunder Road Aberdeen
X-ORIGINAL-URL:https://thunderroad.info/aberdeen
X-WR-CALDESC:Events for Thunder Road Aberdeen
BEGIN:VEVENT
DTSTART;TZID=UTC-6:20210527T120000
DTEND;TZID=UTC-6:20210527T210000
DTSTAMP:20260425T213005
CREATED:20210124T191307Z
LAST-MODIFIED:20210124T191307Z
UID:4768-1622116800-1622149200@thunderroad.info
SUMMARY:Thursday\, May 27\, 2021
DESCRIPTION:
URL:https://thunderroad.info/aberdeen/hour/thursday-may-27-2021/
END:VEVENT
END:VCALENDAR