BEGIN:VCALENDAR
VERSION:2.0
PRODID:-//Thunder Road Aberdeen - ECPv4.6.1//NONSGML v1.0//EN
CALSCALE:GREGORIAN
METHOD:PUBLISH
X-WR-CALNAME:Thunder Road Aberdeen
X-ORIGINAL-URL:https://thunderroad.info/aberdeen
X-WR-CALDESC:Events for Thunder Road Aberdeen
BEGIN:VEVENT
DTSTART;TZID=UTC-6:20230525T160000
DTEND;TZID=UTC-6:20230525T200000
DTSTAMP:20260424T101801
CREATED:20230109T181522Z
LAST-MODIFIED:20230421T062456Z
UID:5434-1685030400-1685044800@thunderroad.info
SUMMARY:Thursday\, May 25\, 2023
DESCRIPTION:
URL:https://thunderroad.info/aberdeen/hour/thursday-may-25-2023/
END:VEVENT
END:VCALENDAR