BEGIN:VCALENDAR
VERSION:2.0
PRODID:-//Thunder Road Aberdeen - ECPv4.6.1//NONSGML v1.0//EN
CALSCALE:GREGORIAN
METHOD:PUBLISH
X-WR-CALNAME:Thunder Road Aberdeen
X-ORIGINAL-URL:https://thunderroad.info/aberdeen
X-WR-CALDESC:Events for Thunder Road Aberdeen
BEGIN:VEVENT
DTSTART;TZID=UTC-6:20260521T120000
DTEND;TZID=UTC-6:20260521T200000
DTSTAMP:20260422T012255
CREATED:20260225T191750Z
LAST-MODIFIED:20260225T191750Z
UID:6374-1779364800-1779393600@thunderroad.info
SUMMARY:Thursday\, May 21\, 2026
DESCRIPTION:
URL:https://thunderroad.info/aberdeen/hour/thursday-may-21-2026/
END:VEVENT
END:VCALENDAR