BEGIN:VCALENDAR
VERSION:2.0
PRODID:-//Thunder Road Aberdeen - ECPv4.6.1//NONSGML v1.0//EN
CALSCALE:GREGORIAN
METHOD:PUBLISH
X-WR-CALNAME:Thunder Road Aberdeen
X-ORIGINAL-URL:https://thunderroad.info/aberdeen
X-WR-CALDESC:Events for Thunder Road Aberdeen
BEGIN:VEVENT
DTSTART;TZID=UTC-6:20260625T110000
DTEND;TZID=UTC-6:20260625T210000
DTSTAMP:20260422T044937
CREATED:20260225T191843Z
LAST-MODIFIED:20260225T191843Z
UID:6409-1782385200-1782421200@thunderroad.info
SUMMARY:Thursday\, June 25\, 2026
DESCRIPTION:
URL:https://thunderroad.info/aberdeen/hour/thursday-june-25-2026/
END:VEVENT
END:VCALENDAR