BEGIN:VCALENDAR
VERSION:2.0
PRODID:-//Thunder Road Aberdeen - ECPv4.6.1//NONSGML v1.0//EN
CALSCALE:GREGORIAN
METHOD:PUBLISH
X-WR-CALNAME:Thunder Road Aberdeen
X-ORIGINAL-URL:https://thunderroad.info/aberdeen
X-WR-CALDESC:Events for Thunder Road Aberdeen
BEGIN:VEVENT
DTSTART;TZID=UTC-6:20210624T120000
DTEND;TZID=UTC-6:20210624T213000
DTSTAMP:20260425T200147
CREATED:20210124T191323Z
LAST-MODIFIED:20210124T191323Z
UID:4796-1624536000-1624570200@thunderroad.info
SUMMARY:Thursday\, June 24\, 2021
DESCRIPTION:
URL:https://thunderroad.info/aberdeen/hour/thursday-june-24-2021/
END:VEVENT
END:VCALENDAR