BEGIN:VCALENDAR
VERSION:2.0
PRODID:-//Thunder Road Aberdeen - ECPv4.6.1//NONSGML v1.0//EN
CALSCALE:GREGORIAN
METHOD:PUBLISH
X-WR-CALNAME:Thunder Road Aberdeen
X-ORIGINAL-URL:https://thunderroad.info/aberdeen
X-WR-CALDESC:Events for Thunder Road Aberdeen
BEGIN:VEVENT
DTSTART;TZID=UTC-6:20210603T120000
DTEND;TZID=UTC-6:20210603T210000
DTSTAMP:20260425T200144
CREATED:20210124T191310Z
LAST-MODIFIED:20210124T191310Z
UID:4775-1622721600-1622754000@thunderroad.info
SUMMARY:Thursday\, June 03\, 2021
DESCRIPTION:
URL:https://thunderroad.info/aberdeen/hour/thursday-june-03-2021/
END:VEVENT
END:VCALENDAR