BEGIN:VCALENDAR
VERSION:2.0
PRODID:-//Thunder Road Aberdeen - ECPv4.6.1//NONSGML v1.0//EN
CALSCALE:GREGORIAN
METHOD:PUBLISH
X-WR-CALNAME:Thunder Road Aberdeen
X-ORIGINAL-URL:https://thunderroad.info/aberdeen
X-WR-CALDESC:Events for Thunder Road Aberdeen
BEGIN:VEVENT
DTSTART;TZID=UTC-6:20250731T120000
DTEND;TZID=UTC-6:20250731T213000
DTSTAMP:20260422T130441
CREATED:20250205T004348Z
LAST-MODIFIED:20250205T004348Z
UID:6179-1753963200-1753997400@thunderroad.info
SUMMARY:Thursday\, July 31\, 2025
DESCRIPTION:
URL:https://thunderroad.info/aberdeen/hour/thursday-july-31-2025/
END:VEVENT
END:VCALENDAR