BEGIN:VCALENDAR
VERSION:2.0
PRODID:-//Thunder Road Aberdeen - ECPv4.6.1//NONSGML v1.0//EN
CALSCALE:GREGORIAN
METHOD:PUBLISH
X-WR-CALNAME:Thunder Road Aberdeen
X-ORIGINAL-URL:https://thunderroad.info/aberdeen
X-WR-CALDESC:Events for Thunder Road Aberdeen
BEGIN:VEVENT
DTSTART;TZID=UTC-6:20260730T120000
DTEND;TZID=UTC-6:20260730T213000
DTSTAMP:20260422T044409
CREATED:20260225T191942Z
LAST-MODIFIED:20260225T191942Z
UID:6444-1785412800-1785447000@thunderroad.info
SUMMARY:Thursday\, July 30\, 2026
DESCRIPTION:
URL:https://thunderroad.info/aberdeen/hour/thursday-july-30-2026/
END:VEVENT
END:VCALENDAR