BEGIN:VCALENDAR
VERSION:2.0
PRODID:-//Thunder Road Aberdeen - ECPv4.6.1//NONSGML v1.0//EN
CALSCALE:GREGORIAN
METHOD:PUBLISH
X-WR-CALNAME:Thunder Road Aberdeen
X-ORIGINAL-URL:https://thunderroad.info/aberdeen
X-WR-CALDESC:Events for Thunder Road Aberdeen
BEGIN:VEVENT
DTSTART;TZID=UTC-6:20260702T120000
DTEND;TZID=UTC-6:20260702T223000
DTSTAMP:20260422T012255
CREATED:20260225T191856Z
LAST-MODIFIED:20260225T191856Z
UID:6416-1782993600-1783031400@thunderroad.info
SUMMARY:Thursday\, July 2\, 2026
DESCRIPTION:
URL:https://thunderroad.info/aberdeen/hour/thursday-july-2-2026/
END:VEVENT
END:VCALENDAR