BEGIN:VCALENDAR
VERSION:2.0
PRODID:-//Thunder Road Aberdeen - ECPv4.6.1//NONSGML v1.0//EN
CALSCALE:GREGORIAN
METHOD:PUBLISH
X-WR-CALNAME:Thunder Road Aberdeen
X-ORIGINAL-URL:https://thunderroad.info/aberdeen
X-WR-CALDESC:Events for Thunder Road Aberdeen
BEGIN:VEVENT
DTSTART;TZID=UTC-6:20230713T120000
DTEND;TZID=UTC-6:20230713T213000
DTSTAMP:20260424T085607
CREATED:20230109T181538Z
LAST-MODIFIED:20230109T181538Z
UID:5483-1689249600-1689283800@thunderroad.info
SUMMARY:Thursday\, July 13\, 2023
DESCRIPTION:
URL:https://thunderroad.info/aberdeen/hour/thursday-july-13-2023/
END:VEVENT
END:VCALENDAR