BEGIN:VCALENDAR
VERSION:2.0
PRODID:-//Thunder Road Aberdeen - ECPv4.6.1//NONSGML v1.0//EN
CALSCALE:GREGORIAN
METHOD:PUBLISH
X-WR-CALNAME:Thunder Road Aberdeen
X-ORIGINAL-URL:https://thunderroad.info/aberdeen
X-WR-CALDESC:Events for Thunder Road Aberdeen
BEGIN:VEVENT
DTSTART;TZID=UTC-6:20220707T120000
DTEND;TZID=UTC-6:20220707T213000
DTSTAMP:20260424T234637
CREATED:20220216T232951Z
LAST-MODIFIED:20220216T232951Z
UID:5136-1657195200-1657229400@thunderroad.info
SUMMARY:Thursday\, July 07\, 2022
DESCRIPTION:
URL:https://thunderroad.info/aberdeen/hour/thursday-july-07-2022/
END:VEVENT
END:VCALENDAR