BEGIN:VCALENDAR
VERSION:2.0
PRODID:-//Thunder Road Aberdeen - ECPv4.6.1//NONSGML v1.0//EN
CALSCALE:GREGORIAN
METHOD:PUBLISH
X-WR-CALNAME:Thunder Road Aberdeen
X-ORIGINAL-URL:https://thunderroad.info/aberdeen
X-WR-CALDESC:Events for Thunder Road Aberdeen
BEGIN:VEVENT
DTSTART;TZID=UTC-6:20230803T120000
DTEND;TZID=UTC-6:20230803T213000
DTSTAMP:20260424T061453
CREATED:20230109T181545Z
LAST-MODIFIED:20230109T181545Z
UID:5504-1691064000-1691098200@thunderroad.info
SUMMARY:Thursday\, August 3\, 2023
DESCRIPTION:
URL:https://thunderroad.info/aberdeen/hour/thursday-august-3-2023/
END:VEVENT
END:VCALENDAR