BEGIN:VCALENDAR
VERSION:2.0
PRODID:-//Thunder Road Aberdeen - ECPv4.6.1//NONSGML v1.0//EN
CALSCALE:GREGORIAN
METHOD:PUBLISH
X-WR-CALNAME:Thunder Road Aberdeen
X-ORIGINAL-URL:https://thunderroad.info/aberdeen
X-WR-CALDESC:Events for Thunder Road Aberdeen
BEGIN:VEVENT
DTSTART;TZID=UTC-6:20210826T170000
DTEND;TZID=UTC-6:20210826T200000
DTSTAMP:20260425T171142
CREATED:20210125T160213Z
LAST-MODIFIED:20210125T160213Z
UID:4878-1629997200-1630008000@thunderroad.info
SUMMARY:Thursday\, August 26\, 2021
DESCRIPTION:
URL:https://thunderroad.info/aberdeen/hour/thursday-august-26-2021/
END:VEVENT
END:VCALENDAR