BEGIN:VCALENDAR
VERSION:2.0
PRODID:-//Thunder Road Aberdeen - ECPv4.6.1//NONSGML v1.0//EN
CALSCALE:GREGORIAN
METHOD:PUBLISH
X-WR-CALNAME:Thunder Road Aberdeen
X-ORIGINAL-URL:https://thunderroad.info/aberdeen
X-WR-CALDESC:Events for Thunder Road Aberdeen
BEGIN:VEVENT
DTSTART;TZID=UTC-6:20260820T170000
DTEND;TZID=UTC-6:20260820T200000
DTSTAMP:20260422T044240
CREATED:20260225T192018Z
LAST-MODIFIED:20260225T192018Z
UID:6465-1787245200-1787256000@thunderroad.info
SUMMARY:Thursday\, August 20\, 2026
DESCRIPTION:
URL:https://thunderroad.info/aberdeen/hour/thursday-august-20-2026/
END:VEVENT
END:VCALENDAR