BEGIN:VCALENDAR
VERSION:2.0
PRODID:-//Thunder Road Aberdeen - ECPv4.6.1//NONSGML v1.0//EN
CALSCALE:GREGORIAN
METHOD:PUBLISH
X-WR-CALNAME:Thunder Road Aberdeen
X-ORIGINAL-URL:https://thunderroad.info/aberdeen
X-WR-CALDESC:Events for Thunder Road Aberdeen
BEGIN:VEVENT
DTSTART;TZID=UTC-6:20230817T120000
DTEND;TZID=UTC-6:20230817T193000
DTSTAMP:20260424T062320
CREATED:20230109T181550Z
LAST-MODIFIED:20230806T234442Z
UID:5518-1692273600-1692300600@thunderroad.info
SUMMARY:Thursday\, August 17\, 2023
DESCRIPTION:
URL:https://thunderroad.info/aberdeen/hour/thursday-august-17-2023/
END:VEVENT
END:VCALENDAR