BEGIN:VCALENDAR
VERSION:2.0
PRODID:-//Thunder Road Aberdeen - ECPv4.6.1//NONSGML v1.0//EN
CALSCALE:GREGORIAN
METHOD:PUBLISH
X-WR-CALNAME:Thunder Road Aberdeen
X-ORIGINAL-URL:https://thunderroad.info/aberdeen
X-WR-CALDESC:Events for Thunder Road Aberdeen
BEGIN:VEVENT
DTSTART;TZID=UTC-6:20240815T120000
DTEND;TZID=UTC-6:20240815T193000
DTSTAMP:20260423T123021
CREATED:20240301T014048Z
LAST-MODIFIED:20240301T014048Z
UID:5891-1723723200-1723750200@thunderroad.info
SUMMARY:Thursday\, August 15\, 2024
DESCRIPTION:
URL:https://thunderroad.info/aberdeen/hour/thursday-august-15-2024/
END:VEVENT
END:VCALENDAR