BEGIN:VCALENDAR
VERSION:2.0
PRODID:-//Thunder Road Aberdeen - ECPv4.6.1//NONSGML v1.0//EN
CALSCALE:GREGORIAN
METHOD:PUBLISH
X-WR-CALNAME:Thunder Road Aberdeen
X-ORIGINAL-URL:https://thunderroad.info/aberdeen
X-WR-CALDESC:Events for Thunder Road Aberdeen
BEGIN:VEVENT
DTSTART;TZID=UTC-6:20250814T120000
DTEND;TZID=UTC-6:20250814T193000
DTSTAMP:20260424T095409
CREATED:20250205T004356Z
LAST-MODIFIED:20250205T004356Z
UID:6193-1755172800-1755199800@thunderroad.info
SUMMARY:Thursday\, August 14\, 2025
DESCRIPTION:
URL:https://thunderroad.info/aberdeen/hour/thursday-august-14-2025/
END:VEVENT
END:VCALENDAR