BEGIN:VCALENDAR
VERSION:2.0
PRODID:-//Thunder Road Aberdeen - ECPv4.6.1//NONSGML v1.0//EN
CALSCALE:GREGORIAN
METHOD:PUBLISH
X-WR-CALNAME:Thunder Road Aberdeen
X-ORIGINAL-URL:https://thunderroad.info/aberdeen
X-WR-CALDESC:Events for Thunder Road Aberdeen
BEGIN:VEVENT
DTSTART;TZID=UTC-6:20210812T120000
DTEND;TZID=UTC-6:20210812T210000
DTSTAMP:20260425T171145
CREATED:20210124T191346Z
LAST-MODIFIED:20210124T191346Z
UID:4845-1628769600-1628802000@thunderroad.info
SUMMARY:Thursday\, August 12\, 2021
DESCRIPTION:
URL:https://thunderroad.info/aberdeen/hour/thursday-august-12-2021/
END:VEVENT
END:VCALENDAR