BEGIN:VCALENDAR
VERSION:2.0
PRODID:-//Thunder Road Aberdeen - ECPv4.6.1//NONSGML v1.0//EN
CALSCALE:GREGORIAN
METHOD:PUBLISH
X-WR-CALNAME:Thunder Road Aberdeen
X-ORIGINAL-URL:https://thunderroad.info/aberdeen
X-WR-CALDESC:Events for Thunder Road Aberdeen
BEGIN:VEVENT
DTSTART;TZID=UTC-6:20230810T120000
DTEND;TZID=UTC-6:20230810T210000
DTSTAMP:20260424T062320
CREATED:20230109T181547Z
LAST-MODIFIED:20230109T181547Z
UID:5511-1691668800-1691701200@thunderroad.info
SUMMARY:Thursday\, August 10\, 2023
DESCRIPTION:
URL:https://thunderroad.info/aberdeen/hour/thursday-august-10-2023/
END:VEVENT
END:VCALENDAR