BEGIN:VCALENDAR
VERSION:2.0
PRODID:-//Thunder Road Aberdeen - ECPv4.6.1//NONSGML v1.0//EN
CALSCALE:GREGORIAN
METHOD:PUBLISH
X-WR-CALNAME:Thunder Road Aberdeen
X-ORIGINAL-URL:https://thunderroad.info/aberdeen
X-WR-CALDESC:Events for Thunder Road Aberdeen
BEGIN:VEVENT
DTSTART;TZID=UTC-6:20240801T120000
DTEND;TZID=UTC-6:20240801T213000
DTSTAMP:20260423T123028
CREATED:20240301T014043Z
LAST-MODIFIED:20240301T014043Z
UID:5877-1722513600-1722547800@thunderroad.info
SUMMARY:Thursday\, August 1\, 2024
DESCRIPTION:
URL:https://thunderroad.info/aberdeen/hour/thursday-august-1-2024/
END:VEVENT
END:VCALENDAR