BEGIN:VCALENDAR
VERSION:2.0
PRODID:-//Thunder Road Aberdeen - ECPv4.6.1//NONSGML v1.0//EN
CALSCALE:GREGORIAN
METHOD:PUBLISH
X-WR-CALNAME:Thunder Road Aberdeen
X-ORIGINAL-URL:https://thunderroad.info/aberdeen
X-WR-CALDESC:Events for Thunder Road Aberdeen
BEGIN:VEVENT
DTSTART;TZID=UTC-6:20220804T120000
DTEND;TZID=UTC-6:20220804T213000
DTSTAMP:20260424T222209
CREATED:20220216T233029Z
LAST-MODIFIED:20220216T233029Z
UID:5164-1659614400-1659648600@thunderroad.info
SUMMARY:Thursday\, August 04\, 2022
DESCRIPTION:
URL:https://thunderroad.info/aberdeen/hour/thursday-august-04-2022/
END:VEVENT
END:VCALENDAR