BEGIN:VCALENDAR
VERSION:2.0
PRODID:-//Thunder Road Aberdeen - ECPv4.6.1//NONSGML v1.0//EN
CALSCALE:GREGORIAN
METHOD:PUBLISH
X-WR-CALNAME:Thunder Road Aberdeen
X-ORIGINAL-URL:https://thunderroad.info/aberdeen
X-WR-CALDESC:Events for Thunder Road Aberdeen
BEGIN:VEVENT
DTSTART;TZID=UTC-6:20240908T130000
DTEND;TZID=UTC-6:20240908T183000
DTSTAMP:20260423T093340
CREATED:20240301T014055Z
LAST-MODIFIED:20240301T014055Z
UID:5907-1725800400-1725820200@thunderroad.info
SUMMARY:Sunday\, September 8\, 2024
DESCRIPTION:
URL:https://thunderroad.info/aberdeen/hour/sunday-september-8-2024/
END:VEVENT
END:VCALENDAR