BEGIN:VCALENDAR
VERSION:2.0
PRODID:-//Thunder Road Aberdeen - ECPv4.6.1//NONSGML v1.0//EN
CALSCALE:GREGORIAN
METHOD:PUBLISH
X-WR-CALNAME:Thunder Road Aberdeen
X-ORIGINAL-URL:https://thunderroad.info/aberdeen
X-WR-CALDESC:Events for Thunder Road Aberdeen
BEGIN:VEVENT
DTSTART;TZID=UTC-6:20220918T130000
DTEND;TZID=UTC-6:20220918T170000
DTSTAMP:20260424T123835
CREATED:20220216T233048Z
LAST-MODIFIED:20220830T134831Z
UID:5196-1663506000-1663520400@thunderroad.info
SUMMARY:Sunday\, September 18\, 2022
DESCRIPTION:
URL:https://thunderroad.info/aberdeen/hour/sunday-september-18-2022/
END:VEVENT
END:VCALENDAR