BEGIN:VCALENDAR
VERSION:2.0
PRODID:-//Thunder Road Aberdeen - ECPv4.6.1//NONSGML v1.0//EN
CALSCALE:GREGORIAN
METHOD:PUBLISH
X-WR-CALNAME:Thunder Road Aberdeen
X-ORIGINAL-URL:https://thunderroad.info/aberdeen
X-WR-CALDESC:Events for Thunder Road Aberdeen
BEGIN:VEVENT
DTSTART;TZID=UTC-6:20260913T130000
DTEND;TZID=UTC-6:20260913T170000
DTSTAMP:20260422T081837
CREATED:20260225T192034Z
LAST-MODIFIED:20260225T192034Z
UID:6476-1789304400-1789318800@thunderroad.info
SUMMARY:Sunday\, September 13\, 2026
DESCRIPTION:
URL:https://thunderroad.info/aberdeen/hour/sunday-september-13-2026/
END:VEVENT
END:VCALENDAR